BEGIN:VCALENDAR
VERSION:2.0
PRODID:-//eventon.com NONSGML v1.0//EN
CALSCALE:GREGORIAN
METHOD:PUBLISH
BEGIN:VEVENT
UID:69e996c813ca1
DTSTAMP:20260423T034928Z
DTSTART:20240331T080000Z
DTEND:20240407T160000Z
LOCATION:Schloss Dyck Schloß Dyck\,  41363 Jüchen
SUMMARY:Schlossfrühling Schloss Dyck
DESCRIPTION:Schlossfrühling Schloss Dyck\nhttps://www.lostplacesart.com/ev
 ents/schlossfruehling-schloss-dyck/
URL:https://www.lostplacesart.com/events/schlossfruehling-schloss-dyck/
END:VEVENT
END:VCALENDAR