BEGIN:VCALENDAR
VERSION:2.0
PRODID:-//eventon.com NONSGML v1.0//EN
CALSCALE:GREGORIAN
METHOD:PUBLISH
BEGIN:VEVENT
UID:69eb8b0522d53
DTSTAMP:20260424T152349Z
DTSTART:20250501T080000Z
DTEND:20250504T160000Z
LOCATION:Galopprennbahn Düsseldorf Rennbahnstraße 20\,  40629 Düsseldorf
SUMMARY:Landpartie Grafenberg
DESCRIPTION:Landpartie Grafenberg\nhttps://www.lostplacesart.com/events/lan
 dpartie-grafenberg/
URL:https://www.lostplacesart.com/events/landpartie-grafenberg/
END:VEVENT
END:VCALENDAR